BEGIN:VCALENDAR
VERSION:2.0
PRODID:-//Tukios.com/
BEGIN:VEVENT
UID:0b0032ba-5d37-49d8-982d-f565a05860b8@www.myers-colonialfuneralhome.com
DTSTAMP:20260421T220835Z
DTSTART:20260425T170000Z
DTEND:20260425T171500Z
SUMMARY:Burial
DESCRIPTION:
URL:https://www.myers-colonialfuneralhome.com/obituaries/christopher-jackson
LOCATION:Starlight Cemetery 303 Martin Luther King  Dr.  DeRidder LA 
	70634
GEO:30.8430101;-93.2715691
END:VEVENT
END:VCALENDAR