BEGIN:VCALENDAR
VERSION:2.0
PRODID:-//Tukios.com/
BEGIN:VEVENT
UID:af0cf24b-4256-425c-8565-e9ddab6bbe9e@www.myers-colonialfuneralhome.com
DTSTAMP:20260421T220353Z
DTSTART:20260425T160000Z
DTEND:20260425T170000Z
SUMMARY:Funeral Service
DESCRIPTION:
URL:https://www.myers-colonialfuneralhome.com/obituaries/christopher-jackson
LOCATION:Starlight Missionary Baptist Church 303 Martin Luther King Drive 
	 DeRidder LA 70634
GEO:30.8429733;-93.2716347
END:VEVENT
END:VCALENDAR