BEGIN:VCALENDAR
VERSION:2.0
PRODID:-//Tukios.com/
BEGIN:VEVENT
UID:bf23ff9e-286c-4ea3-a4da-07bed6edabea@www.myers-colonialfuneralhome.com
DTSTAMP:20260421T220353Z
DTSTART:20260425T153000Z
DTEND:20260425T160000Z
SUMMARY:Viewing
DESCRIPTION:
URL:https://www.myers-colonialfuneralhome.com/obituaries/christopher-jackson
LOCATION:Starlight Missionary Baptist Church 303 Martin Luther King Drive 
	 DeRidder LA 70634
GEO:30.8429733;-93.2716347
END:VEVENT
END:VCALENDAR